BEGIN:VCALENDAR
PRODID:-//Microsoft Corporation//Outlook 12.0 MIMEDIR//EN
VERSION:2.0
CALSCALE:GREGORIAN
BEGIN:VEVENT
UID: a92e5558-28cd-42d8-9407-c5b6f96cf188
SUMMARY:Preemiaekskursioon Tallinki laeval (õpilasesindus)
DTSTAMP:20240418
DTSTART:20240418
DTEND:20240419
DURATION:P1D
LOCATION:
DESCRIPTION: <p><strong>Link: </strong>https://www.illuka.edu.ee/et/sundmuste-kalender/preemiaekskursioon-tallinki-laeval-opilasesindus</p><p><strong>Hind: </strong></p>
STATUS:CONFIRMED
SEQUENCE:3
X-ALT-DESC;FMTTYPE=text/html:<p><strong>Link: </strong>https://www.illuka.edu.ee/et/sundmuste-kalender/preemiaekskursioon-tallinki-laeval-opilasesindus</p><p><strong>Hind: </strong></p>
X-MICROSOFT-CDO-BUSYSTATUS:OOF
X-MICROSOFT-CDO-IMPORTANCE:1
X-MICROSOFT-DISALLOW-COUNTER:FALSE
X-MS-OLK-ALLOWEXTERNCHECK:TRUE
X-MS-OLK-CONFTYPE:0
X-MICROSOFT-CDO-ALLDAYEVENT:1
X-MICROSOFT-MSNCALENDAR-ALLDAYEVENT:1
END:VEVENT
END:VCALENDAR